BEGIN:VCALENDAR
VERSION:2.0
PRODID:-//Marjorie Goldman - ECPv6.15.1.1//NONSGML v1.0//EN
CALSCALE:GREGORIAN
METHOD:PUBLISH
X-ORIGINAL-URL:https://www.mwgoldman.com
X-WR-CALDESC:Events for Marjorie Goldman
REFRESH-INTERVAL;VALUE=DURATION:PT1H
X-Robots-Tag:noindex
X-PUBLISHED-TTL:PT1H
BEGIN:VTIMEZONE
TZID:UTC
BEGIN:STANDARD
TZOFFSETFROM:+0000
TZOFFSETTO:+0000
TZNAME:UTC
DTSTART:20190101T000000
END:STANDARD
END:VTIMEZONE
BEGIN:VEVENT
DTSTART;TZID=UTC:20191030T190000
DTEND;TZID=UTC:20191030T200000
DTSTAMP:20260423T150023
CREATED:20190926T011110Z
LAST-MODIFIED:20190926T011432Z
UID:928-1572462000-1572465600@www.mwgoldman.com
SUMMARY:Susan B. Anthony in Long Valley\, NJ:  "Failure is Impossible"
DESCRIPTION:Thanks to the American Historical Theatre\, I will be performing as Susan B. Anthony at the Washington Township Public Library in Long Valley\, NJ\,  on Wednesday\, October 30 at 7:00 p.m.  This event is free and open to the public.  I hope to see you there.
URL:https://www.mwgoldman.com/event/failure-is-impossible/
LOCATION:Washington Township Public Library\, 37 E. Springtown Rd.\, Long Valley\, New Jersey\, 07853
END:VEVENT
BEGIN:VEVENT
DTSTART;TZID=UTC:20191006T140000
DTEND;TZID=UTC:20191006T150000
DTSTAMP:20260423T150023
CREATED:20190922T010612Z
LAST-MODIFIED:20190922T010612Z
UID:922-1570370400-1570374000@www.mwgoldman.com
SUMMARY:Susan B. Anthony at Peachfield
DESCRIPTION:Thanks to the American Historical Theatre\, I will be presenting my program\, “Failure is Impossible” at Peachfield Mansion in Westhampton\, NJ.  The event is being sponsored by the National Society of Colonial Dames\, but is open to the public.  The presentation will be followed by light refreshments.  Reservations are strongly encouraged.  You can get more information at http://www.colonialdamesnj.org/events.  I hope to see you there!
URL:https://www.mwgoldman.com/event/susan-b-anthony-at-peachfield/
LOCATION:Peachfield Mansion\, 180 Burrs Road\, Westhampton\, New Jersey\, 08060-9618
END:VEVENT
BEGIN:VEVENT
DTSTART;TZID=UTC:20190713T100000
DTEND;TZID=UTC:20190713T160000
DTSTAMP:20260423T150023
CREATED:20190620T211219Z
LAST-MODIFIED:20190707T212003Z
UID:900-1563012000-1563033600@www.mwgoldman.com
SUMMARY:Library of Congress "Women Fight for the Vote Community Day"
DESCRIPTION:Come see Susan B. Anthony at the Library of Congress in Washington D.C. Join the Library in honoring the movement towards voting rights and considering its connections to today. Connect to the stories of suffragists through theatrical presentations\, exhibit tours\, and hands-on activities in the exhibition and in the Young Readers Center.   This event is free and open to the public.  The Susan B. Anthony presentation will be from 11:30 to approximately 12:00\, followed by an informal meet-and-greet and photo ops.  The address is 10 First Street SE\, Thomas Jefferson Building (GPS to the Library of Congress will take you to the Madison Building. Be sure to use the 10 First Street address).
URL:https://www.mwgoldman.com/event/library-of-congress-women-fight-for-the-vote-community-day/
LOCATION:Library of Congress\, 10 First Street\, SE\, Washington\, DC\, 20540
END:VEVENT
BEGIN:VEVENT
DTSTART;TZID=UTC:20190628T190000
DTEND;TZID=UTC:20190628T220000
DTSTAMP:20260423T150023
CREATED:20190613T184444Z
LAST-MODIFIED:20190613T184444Z
UID:894-1561748400-1561759200@www.mwgoldman.com
SUMMARY:Murder at the Masquerade
DESCRIPTION:Interactive “Murder Mystery.”  Private event.
URL:https://www.mwgoldman.com/event/murder-at-the-masquerade/
LOCATION:New Jersey
END:VEVENT
BEGIN:VEVENT
DTSTART;TZID=UTC:20190624T123000
DTEND;TZID=UTC:20190624T140000
DTSTAMP:20260423T150023
CREATED:20190620T205935Z
LAST-MODIFIED:20190620T205935Z
UID:896-1561379400-1561384800@www.mwgoldman.com
SUMMARY:Ringing of the Justice Bell for Pennsylvania's 100th Anniversary of Women's Suffrage
DESCRIPTION:Join Susan B. Anthony and Pennsylvania’s First Lady Frances Wolf\, among others\, as we celebrate the 100th Anniversary of Women’s Suffrage in Pennsylvania.  Read more about the Justice Bell here: \nhttps://en.wikipedia.org/wiki/Justice_Bell_(Valley_Forge) \nThis is a public event.
URL:https://www.mwgoldman.com/event/ringing-of-the-justice-bell-for-pennsylvanias-100th-anniversary-of-womens-suffrage/
LOCATION:Washington Chapel at Valley Forge\, Valley Forge\, Pennsylvania
END:VEVENT
BEGIN:VEVENT
DTSTART;TZID=UTC:20190604T190000
DTEND;TZID=UTC:20190604T203000
DTSTAMP:20260423T150023
CREATED:20190509T162439Z
LAST-MODIFIED:20190509T162439Z
UID:886-1559674800-1559680200@www.mwgoldman.com
SUMMARY:Susan B. Anthony visits Pennswood Village
DESCRIPTION:A presentation followed by Q and A.  This is a private event.
URL:https://www.mwgoldman.com/event/susan-b-anthony-visits-pennswood-village/
LOCATION:Pennswood Village\, Newtown\, PA
END:VEVENT
BEGIN:VEVENT
DTSTART;TZID=UTC:20190327T100000
DTEND;TZID=UTC:20190327T170000
DTSTAMP:20260423T150023
CREATED:20190202T004955Z
LAST-MODIFIED:20190202T005012Z
UID:842-1553680800-1553706000@www.mwgoldman.com
SUMMARY:Voter Registration Drive
DESCRIPTION:Meet Susan B. Anthony (as portrayed by Marjorie Goldman) and Alice Paul (as portrayed by Margaret Downey)\, two pioneers of the woman suffrage movement.  There will be voter registration forms available.  This event will take place at the Haverford College Dining Center\, in the foyer.
URL:https://www.mwgoldman.com/event/voter-registration-drive-2/
LOCATION:Haverford College\, 370 Lancaster Avenue\, Haverford\, PA\, 19041
END:VEVENT
BEGIN:VEVENT
DTSTART;TZID=UTC:20190321T100000
DTEND;TZID=UTC:20190321T160000
DTSTAMP:20260423T150023
CREATED:20190130T225044Z
LAST-MODIFIED:20190202T004008Z
UID:833-1553162400-1553184000@www.mwgoldman.com
SUMMARY:Voter Registration Drive
DESCRIPTION:Meet suffragists Susan B. Anthony and Alice Paul (portrayed by Margaret Downey) in the Sykes Student Union of West Chester University.
URL:https://www.mwgoldman.com/event/voter-registration-drive/
LOCATION:West Chester University\, West Chester\, Pennsylvania
END:VEVENT
BEGIN:VEVENT
DTSTART;TZID=UTC:20190124T193000
DTEND;TZID=UTC:20190124T203000
DTSTAMP:20260423T150023
CREATED:20190104T200539Z
LAST-MODIFIED:20190104T200736Z
UID:801-1548358200-1548361800@www.mwgoldman.com
SUMMARY:Mitzvah Players:  Comedy Improv
DESCRIPTION:Comedy improv!
URL:https://www.mwgoldman.com/event/mitzvah-players/
LOCATION:Temple Adath Israel\, 230 N Highland Ave\, Merion Station\, PA\, Merion Station\, PA\, 19066
END:VEVENT
END:VCALENDAR