BEGIN:VCALENDAR
VERSION:2.0
PRODID:-//Marjorie Goldman - ECPv6.15.1.1//NONSGML v1.0//EN
CALSCALE:GREGORIAN
METHOD:PUBLISH
X-WR-CALNAME:Marjorie Goldman
X-ORIGINAL-URL:https://www.mwgoldman.com
X-WR-CALDESC:Events for Marjorie Goldman
REFRESH-INTERVAL;VALUE=DURATION:PT1H
X-Robots-Tag:noindex
X-PUBLISHED-TTL:PT1H
BEGIN:VTIMEZONE
TZID:UTC
BEGIN:STANDARD
TZOFFSETFROM:+0000
TZOFFSETTO:+0000
TZNAME:UTC
DTSTART:20190101T000000
END:STANDARD
END:VTIMEZONE
BEGIN:VEVENT
DTSTART;TZID=UTC:20201216T190000
DTEND;TZID=UTC:20201216T200000
DTSTAMP:20260423T133034
CREATED:20201124T195322Z
LAST-MODIFIED:20201124T195322Z
UID:1123-1608145200-1608148800@www.mwgoldman.com
SUMMARY:A Visit With Susan B. Anthony
DESCRIPTION:The year 2020 marks the 100th anniversary of the 19th amendment\, guaranteeing women the right to vote.  Through the miracle of modern technology\, you can meet a heroine of the woman suffrage movement:  Susan B. Anthony.  Miss Anthony will take us back to 1883\, when the struggle for voting rights was well underway.  After a formal presentation\, you will have a chance to chat with Miss Anthony and ask questions about her life and work.  Please register for this Zoom event. You will be sent a link to join prior to the event.   This event is free of charge.
URL:https://www.mwgoldman.com/event/a-visit-with-susan-b-anthony-5/
ORGANIZER;CN="Ludington Library":MAILTO:rlangton@lmls.org
END:VEVENT
BEGIN:VEVENT
DTSTART;TZID=UTC:20201027T193000
DTEND;TZID=UTC:20201027T203000
DTSTAMP:20260423T133034
CREATED:20201019T173602Z
LAST-MODIFIED:20201019T173602Z
UID:1115-1603827000-1603830600@www.mwgoldman.com
SUMMARY:A Visit From Susan B. Anthony
DESCRIPTION:Enjoy a Zoom visit with Susan B. Anthony\, sponsored by the Conshohocken Free Library.  The event is free\, but registration is required.  Learn more here:  http://mnl.mclinc.org/blog/2020/03/04/a-visit-with-susan-b-anthony/
URL:https://www.mwgoldman.com/event/a-visit-from-susan-b-anthony-9/
LOCATION:Your computer
ORGANIZER;CN="Conshocken Free Library":MAILTO:smason@mclinc.org
END:VEVENT
BEGIN:VEVENT
DTSTART;TZID=UTC:20201021T190000
DTEND;TZID=UTC:20201021T200000
DTSTAMP:20260423T133034
CREATED:20201019T172758Z
LAST-MODIFIED:20201019T172758Z
UID:1112-1603306800-1603310400@www.mwgoldman.com
SUMMARY:A Visit From Susan B. Anthony
DESCRIPTION:Enjoy a Zoom visit with Susan B. Anthony\, sponsored by the Gladwyne Free Library.  The event is free\, but registration is required.  Learn more here:  https://lmls.org/locations-hours/gladwyne-library/
URL:https://www.mwgoldman.com/event/a-visit-from-susan-b-anthony-8/
LOCATION:Your Computer\, 342 Righter's Mill Road\, Gladwyne\, PA\, 19035
END:VEVENT
BEGIN:VEVENT
DTSTART;TZID=UTC:20200927T110000
DTEND;TZID=UTC:20200927T120000
DTSTAMP:20260423T133034
CREATED:20200925T182351Z
LAST-MODIFIED:20200925T182351Z
UID:1104-1601204400-1601208000@www.mwgoldman.com
SUMMARY:A Visit From Susan B. Anthony
DESCRIPTION:There will be a video presentation followed by live Q and A.  This is a Zoom event\, which you can attend by clicking on the appropriate link at the scheduled time. \nHere’s the link:     https://phillyethics.org/event/susan-b-anthony/
URL:https://www.mwgoldman.com/event/a-visit-from-susan-b-anthony-7/
END:VEVENT
BEGIN:VEVENT
DTSTART;TZID=UTC:20200827T080000
DTEND;TZID=UTC:20200827T170000
DTSTAMP:20260423T133034
CREATED:20200825T181005Z
LAST-MODIFIED:20200825T181105Z
UID:1098-1598515200-1598547600@www.mwgoldman.com
SUMMARY:An Evening With Susan B. Anthony
DESCRIPTION:The Parkland Library in Allentown\, PA presents “An Evening With Susan B. Anthony.”  This Zoom event will include a 25-minute video followed by live Q and A with Miss Anthony!   To get the link to the program you must RSVP to this address:   adults@parklandlibrary.org \nThis event is free and open to the public.
URL:https://www.mwgoldman.com/event/an-evening-with-susan-b-anthony/
END:VEVENT
BEGIN:VEVENT
DTSTART;TZID=UTC:20200826T190000
DTEND;TZID=UTC:20200826T200000
DTSTAMP:20260423T133034
CREATED:20200825T180127Z
LAST-MODIFIED:20200825T180127Z
UID:1070-1598468400-1598472000@www.mwgoldman.com
SUMMARY:A Visit From Susan B. Anthony
DESCRIPTION:Indian Valley Public Library presents a prerecorded video of Susan B. Anthony speaking about her work and her arrest for voting.  There will be live Q and A after the event.  The event is free\, but registration is required. \nhttps://ivpl.assabetinteractive.com/calendar/virtual-susan-b-anthony-program/
URL:https://www.mwgoldman.com/event/a-visit-from-susan-b-anthony-6/
END:VEVENT
BEGIN:VEVENT
DTSTART;TZID=UTC:20200826T130000
DTEND;TZID=UTC:20200826T130000
DTSTAMP:20260423T133034
CREATED:20200825T175320Z
LAST-MODIFIED:20200825T175506Z
UID:1092-1598446800-1598446800@www.mwgoldman.com
SUMMARY:A Women's Suffrage Conversation with Susan B. Anthony\, Sojourner Truth and Alice Paul
DESCRIPTION:Join the National Archives for a live women’s suffrage conversation with Susan B. Anthony\, Sojourner Truth and Alice Paul.  The event free\, but registration is required. \n  \nhttps://www.archives.gov/calendar/event/women-s-suffrage-conversation-with-susan-b-anthony-alice-paul-and-sojourner-truth
URL:https://www.mwgoldman.com/event/a-womens-suffrage-conversation-with-susan-b-anthony-sojourner-truth-and-alice-paul/
END:VEVENT
BEGIN:VEVENT
DTSTART;TZID=UTC:20200806T193000
DTEND;TZID=UTC:20200806T203000
DTSTAMP:20260423T133034
CREATED:20200806T055514Z
LAST-MODIFIED:20200806T055514Z
UID:1062-1596742200-1596745800@www.mwgoldman.com
SUMMARY:A Visit From Susan B. Anthony
DESCRIPTION:A video presentation followed by live Q and A is sponsored by the Conshohocken Free Library\, a branch of the Montgomery County-Norristown Public Library.
URL:https://www.mwgoldman.com/event/a-visit-from-susan-b-anthony-5/
END:VEVENT
BEGIN:VEVENT
DTSTART;TZID=UTC:20200401T183000
DTEND;TZID=UTC:20200401T193000
DTSTAMP:20260423T133034
CREATED:20200218T014417Z
LAST-MODIFIED:20200319T012511Z
UID:1007-1585765800-1585769400@www.mwgoldman.com
SUMMARY:A Visit From Susan B. Anthony
DESCRIPTION:RESCHUDLED FOR MAY 6\, 7:30 P.M.  Susan B. Anthony takes you back to 1883\, when the struggle for woman suffrage was well underway.  Miss Anthony will share some details about her life and upbringing\, but will also do her best convince you to join her in the cause of equal rights for all.  A highlight of the presentation is the story of her arrest\, trial and conviction for the alleged crime of voting in 1872.  There will be ample time for questions and answers after her presentation.
URL:https://www.mwgoldman.com/event/a-visit-from-susan-b-anthony-4/
LOCATION:Consholocken Free Library\, 301 Fayette Street\, Conshohocken\, PA\, 19428
END:VEVENT
BEGIN:VEVENT
DTSTART;TZID=UTC:20200329T110000
DTEND;TZID=UTC:20200329T120000
DTSTAMP:20260423T133034
CREATED:20200218T013022Z
LAST-MODIFIED:20200319T012624Z
UID:1004-1585479600-1585483200@www.mwgoldman.com
SUMMARY:A Visit From Susan B. Anthony
DESCRIPTION:CANCELLED!  Susan B. Anthony takes you back to 1883\, when the struggle for woman suffrage was well underway.  Miss Anthony will share some details about her life and upbringing\, but will also do her best convince you to join her in the cause of equal rights for all.  A highlight of the presentation is the story of her arrest\, trial and conviction for the alleged crime of voting in 1872.  There will be ample time for questions and answers after her presentation.
URL:https://www.mwgoldman.com/event/a-visit-from-susan-b-anthony-3/
LOCATION:Ethical Culture Society\, 1906 South Rittenhouse Square\, Philadelphia\, PA\, 19103
END:VEVENT
BEGIN:VEVENT
DTSTART;TZID=UTC:20200325T183000
DTEND;TZID=UTC:20200325T193000
DTSTAMP:20260423T133034
CREATED:20200104T061040Z
LAST-MODIFIED:20200319T012718Z
UID:960-1585161000-1585164600@www.mwgoldman.com
SUMMARY:A Visit with Susan B. Anthony
DESCRIPTION:CANCELLED! Susan B. Anthony takes you back to 1883\, when the struggle for woman suffrage was well underway.  Miss Anthony will share some details about her life and upbringing\, but will also do her best to convince you to join her in the cause of equal rights for all.  A highlight of the presentation is the story of her arrest\, trial and conviction for the alleged crime of voting in 1872.  There will be ample time for questions and answers after her presentation. \n  \n 
URL:https://www.mwgoldman.com/event/a-visit-with-susan-b-anthony-4/
LOCATION:Your Computer\, 342 Righter's Mill Road\, Gladwyne\, PA\, 19035
END:VEVENT
BEGIN:VEVENT
DTSTART;TZID=UTC:20200320T190000
DTEND;TZID=UTC:20200320T200000
DTSTAMP:20260423T133034
CREATED:20200104T060747Z
LAST-MODIFIED:20200319T012823Z
UID:957-1584730800-1584734400@www.mwgoldman.com
SUMMARY:A Visit with Susan B. Anthony
DESCRIPTION:CANCELLED!  Susan B. Anthony takes you back to 1883\, when the struggle for woman suffrage was well underway.  Miss Anthony will share some details about her life and upbringing\, but will also do her best to convince you to join her in the cause of equal rights for all.  A highlight of the presentation is the story of her arrest\, trial and conviction for the alleged crime of voting in 1872.  There will be ample time for questions and answers after her presentation.
URL:https://www.mwgoldman.com/event/a-visit-with-susan-b-anthony-3/
LOCATION:Upper Dublin Public Library\, 805 Loch Alsh Avenue\, Fort Washington\, PA\, 19034
END:VEVENT
BEGIN:VEVENT
DTSTART;TZID=UTC:20200311T110000
DTEND;TZID=UTC:20200311T140000
DTSTAMP:20260423T133034
CREATED:20200213T191841Z
LAST-MODIFIED:20200213T191956Z
UID:987-1583924400-1583935200@www.mwgoldman.com
SUMMARY:"Failure is Impossible"
DESCRIPTION:With the American Historical Theatre\, Susan B. Anthony will visit Castle Clinton National Monument in Lower Manhattan.  There will be two presentations for school groups\, but there will be other opportunities for meeting\, greeting\, and Q and A.  This event is free and open to the public.
URL:https://www.mwgoldman.com/event/failure-is-impossible-5/
LOCATION:Castle Clinton National Monument\, Battery Park\, New York\, NY\, 10004
END:VEVENT
BEGIN:VEVENT
DTSTART;TZID=UTC:20200308T133000
DTEND;TZID=UTC:20200308T143000
DTSTAMP:20260423T133034
CREATED:20200104T060126Z
LAST-MODIFIED:20200213T194050Z
UID:954-1583674200-1583677800@www.mwgoldman.com
SUMMARY:A Visit with Susan B. Anthony
DESCRIPTION:Susan B. Anthony takes you back to 1883\, when the struggle for woman suffrage was well underway.  Miss Anthony will share some details about her life and upbringing\, but will also do her best to convince you to join her in the cause of equal rights for all.  A highlight of the presentation is the story of her arrest\, trial and conviction for the alleged crime of voting in 1872.  There will be ample time for questions and answers after her presentation. \nThis event is free and open to the public.
URL:https://www.mwgoldman.com/event/a-visit-with-susan-b-anthony-2/
LOCATION:Marple Public Library\, 2599 Sproul Road\, Broomall\, PA\, 19008
END:VEVENT
BEGIN:VEVENT
DTSTART;TZID=UTC:20200306T190000
DTEND;TZID=UTC:20200306T200000
DTSTAMP:20260423T133034
CREATED:20200104T055646Z
LAST-MODIFIED:20200213T193728Z
UID:951-1583521200-1583524800@www.mwgoldman.com
SUMMARY:A Visit with Susan B. Anthony
DESCRIPTION:Susan B. Anthony takes you back to 1883\, when the struggle for woman suffrage was well underway.  Miss Anthony will share some details about her life and upbringing\, but will also do her best to convince you to join her in the cause of equal rights for all.  A highlight of the presentation is the story of her arrest\, trial and conviction for the alleged crime of voting in 1872.  There will be ample time for questions and answers after her presentation.
URL:https://www.mwgoldman.com/event/a-visit-with-susan-b-anthony/
LOCATION:Delanco Public Library\, 1303 Burlington Avenue\, Delanco\, New Jersey\, 08075
END:VEVENT
BEGIN:VEVENT
DTSTART;TZID=UTC:20200305T190000
DTEND;TZID=UTC:20200305T200000
DTSTAMP:20260423T133034
CREATED:20200213T190719Z
LAST-MODIFIED:20200218T005157Z
UID:983-1583434800-1583438400@www.mwgoldman.com
SUMMARY:"Failure is Impossible"
DESCRIPTION:With the American Historical Theatre\, Susan B. Anthony will be visiting the Barron Arts Center in Woodbridge\, NJ.  This event is free and open to the public\, but reservations are required.
URL:https://www.mwgoldman.com/event/failure-is-impossible-4/
LOCATION:Barron Arts Center\, 582 Rahway Avenue\, Woodbridge\, NJ\, 07095
END:VEVENT
BEGIN:VEVENT
DTSTART;TZID=UTC:20200229T140000
DTEND;TZID=UTC:20200229T150000
DTSTAMP:20260423T133034
CREATED:20200213T190108Z
LAST-MODIFIED:20200213T193458Z
UID:979-1582984800-1582988400@www.mwgoldman.com
SUMMARY:A Visit From Susan B. Anthony
DESCRIPTION:Susan B. Anthony takes you back to 1883\, when the struggle for woman suffrage was well underway. Miss Anthony will share some details about her life and upbringing\, but will also do her best convince you to join her in the cause of equal rights for all. A highlight of the presentation is the story of her arrest\, trial and conviction for the alleged crime of voting in 1872. There will be ample time for questions and answers after her presentation. \n  \n 
URL:https://www.mwgoldman.com/event/a-visit-from-susan-b-anthony-2/
LOCATION:Yardley-Makefield Public Library\, 1080 Edgewood Road\, Lower Makefield\, PA\, 19067
END:VEVENT
BEGIN:VEVENT
DTSTART;TZID=UTC:20200223T140000
DTEND;TZID=UTC:20200223T150000
DTSTAMP:20260423T133034
CREATED:20200213T185315Z
LAST-MODIFIED:20200213T185315Z
UID:975-1582466400-1582470000@www.mwgoldman.com
SUMMARY:"Failure is Impossible"
DESCRIPTION:With the American Historical Theatre\, I will present “Failure is Impossible” for the Wayne County Historical Society in Wooster\, OH.
URL:https://www.mwgoldman.com/event/failure-is-impossible-3/
LOCATION:1873 Schoolhouse\, 546 East Bowman Street\, Wooster\, Ohio\, 44691
END:VEVENT
BEGIN:VEVENT
DTSTART;TZID=UTC:20200219T130000
DTEND;TZID=UTC:20200219T140000
DTSTAMP:20260423T133034
CREATED:20200213T184043Z
LAST-MODIFIED:20200222T020529Z
UID:972-1582117200-1582120800@www.mwgoldman.com
SUMMARY:A Visit From Susan B. Anthony
DESCRIPTION:Susan B. Anthony will visit a luncheon of the Woman’s Club of Perkasie\, a member of the General Federation of Woman’s Clubs.  This is a private event.
URL:https://www.mwgoldman.com/event/a-visit-from-susan-b-anthony/
END:VEVENT
BEGIN:VEVENT
DTSTART;TZID=UTC:20200209T150000
DTEND;TZID=UTC:20200209T160000
DTSTAMP:20260423T133034
CREATED:20200213T183229Z
LAST-MODIFIED:20200213T183229Z
UID:970-1581260400-1581264000@www.mwgoldman.com
SUMMARY:Failure is Impossible
DESCRIPTION:With the American Historical Theatre\, I will present “Failure Is Impossible” as the guest of the Southern Association of Student Financial Aid Administrators in Norfolk\, VA.  I will also be available\, in character\, for informal mingling at their evening reception.  This is a private event.
URL:https://www.mwgoldman.com/event/failure-is-impossible-2/
END:VEVENT
BEGIN:VEVENT
DTSTART;TZID=UTC:20191030T190000
DTEND;TZID=UTC:20191030T200000
DTSTAMP:20260423T133034
CREATED:20190926T011110Z
LAST-MODIFIED:20190926T011432Z
UID:928-1572462000-1572465600@www.mwgoldman.com
SUMMARY:Susan B. Anthony in Long Valley\, NJ:  "Failure is Impossible"
DESCRIPTION:Thanks to the American Historical Theatre\, I will be performing as Susan B. Anthony at the Washington Township Public Library in Long Valley\, NJ\,  on Wednesday\, October 30 at 7:00 p.m.  This event is free and open to the public.  I hope to see you there.
URL:https://www.mwgoldman.com/event/failure-is-impossible/
LOCATION:Washington Township Public Library\, 37 E. Springtown Rd.\, Long Valley\, New Jersey\, 07853
END:VEVENT
BEGIN:VEVENT
DTSTART;TZID=UTC:20191006T140000
DTEND;TZID=UTC:20191006T150000
DTSTAMP:20260423T133034
CREATED:20190922T010612Z
LAST-MODIFIED:20190922T010612Z
UID:922-1570370400-1570374000@www.mwgoldman.com
SUMMARY:Susan B. Anthony at Peachfield
DESCRIPTION:Thanks to the American Historical Theatre\, I will be presenting my program\, “Failure is Impossible” at Peachfield Mansion in Westhampton\, NJ.  The event is being sponsored by the National Society of Colonial Dames\, but is open to the public.  The presentation will be followed by light refreshments.  Reservations are strongly encouraged.  You can get more information at http://www.colonialdamesnj.org/events.  I hope to see you there!
URL:https://www.mwgoldman.com/event/susan-b-anthony-at-peachfield/
LOCATION:Peachfield Mansion\, 180 Burrs Road\, Westhampton\, New Jersey\, 08060-9618
END:VEVENT
BEGIN:VEVENT
DTSTART;TZID=UTC:20190713T100000
DTEND;TZID=UTC:20190713T160000
DTSTAMP:20260423T133034
CREATED:20190620T211219Z
LAST-MODIFIED:20190707T212003Z
UID:900-1563012000-1563033600@www.mwgoldman.com
SUMMARY:Library of Congress "Women Fight for the Vote Community Day"
DESCRIPTION:Come see Susan B. Anthony at the Library of Congress in Washington D.C. Join the Library in honoring the movement towards voting rights and considering its connections to today. Connect to the stories of suffragists through theatrical presentations\, exhibit tours\, and hands-on activities in the exhibition and in the Young Readers Center.   This event is free and open to the public.  The Susan B. Anthony presentation will be from 11:30 to approximately 12:00\, followed by an informal meet-and-greet and photo ops.  The address is 10 First Street SE\, Thomas Jefferson Building (GPS to the Library of Congress will take you to the Madison Building. Be sure to use the 10 First Street address).
URL:https://www.mwgoldman.com/event/library-of-congress-women-fight-for-the-vote-community-day/
LOCATION:Library of Congress\, 10 First Street\, SE\, Washington\, DC\, 20540
END:VEVENT
BEGIN:VEVENT
DTSTART;TZID=UTC:20190628T190000
DTEND;TZID=UTC:20190628T220000
DTSTAMP:20260423T133034
CREATED:20190613T184444Z
LAST-MODIFIED:20190613T184444Z
UID:894-1561748400-1561759200@www.mwgoldman.com
SUMMARY:Murder at the Masquerade
DESCRIPTION:Interactive “Murder Mystery.”  Private event.
URL:https://www.mwgoldman.com/event/murder-at-the-masquerade/
END:VEVENT
BEGIN:VEVENT
DTSTART;TZID=UTC:20190624T123000
DTEND;TZID=UTC:20190624T140000
DTSTAMP:20260423T133034
CREATED:20190620T205935Z
LAST-MODIFIED:20190620T205935Z
UID:896-1561379400-1561384800@www.mwgoldman.com
SUMMARY:Ringing of the Justice Bell for Pennsylvania's 100th Anniversary of Women's Suffrage
DESCRIPTION:Join Susan B. Anthony and Pennsylvania’s First Lady Frances Wolf\, among others\, as we celebrate the 100th Anniversary of Women’s Suffrage in Pennsylvania.  Read more about the Justice Bell here: \nhttps://en.wikipedia.org/wiki/Justice_Bell_(Valley_Forge) \nThis is a public event.
URL:https://www.mwgoldman.com/event/ringing-of-the-justice-bell-for-pennsylvanias-100th-anniversary-of-womens-suffrage/
LOCATION:Washington Chapel at Valley Forge\, Valley Forge\, Pennsylvania
END:VEVENT
BEGIN:VEVENT
DTSTART;TZID=UTC:20190604T190000
DTEND;TZID=UTC:20190604T203000
DTSTAMP:20260423T133034
CREATED:20190509T162439Z
LAST-MODIFIED:20190509T162439Z
UID:886-1559674800-1559680200@www.mwgoldman.com
SUMMARY:Susan B. Anthony visits Pennswood Village
DESCRIPTION:A presentation followed by Q and A.  This is a private event.
URL:https://www.mwgoldman.com/event/susan-b-anthony-visits-pennswood-village/
LOCATION:Pennswood Village\, Newtown\, PA
END:VEVENT
BEGIN:VEVENT
DTSTART;TZID=UTC:20190327T100000
DTEND;TZID=UTC:20190327T170000
DTSTAMP:20260423T133034
CREATED:20190202T004955Z
LAST-MODIFIED:20190202T005012Z
UID:842-1553680800-1553706000@www.mwgoldman.com
SUMMARY:Voter Registration Drive
DESCRIPTION:Meet Susan B. Anthony (as portrayed by Marjorie Goldman) and Alice Paul (as portrayed by Margaret Downey)\, two pioneers of the woman suffrage movement.  There will be voter registration forms available.  This event will take place at the Haverford College Dining Center\, in the foyer.
URL:https://www.mwgoldman.com/event/voter-registration-drive-2/
LOCATION:Haverford College\, 370 Lancaster Avenue\, Haverford\, PA\, 19041
END:VEVENT
BEGIN:VEVENT
DTSTART;TZID=UTC:20190321T100000
DTEND;TZID=UTC:20190321T160000
DTSTAMP:20260423T133034
CREATED:20190130T225044Z
LAST-MODIFIED:20190202T004008Z
UID:833-1553162400-1553184000@www.mwgoldman.com
SUMMARY:Voter Registration Drive
DESCRIPTION:Meet suffragists Susan B. Anthony and Alice Paul (portrayed by Margaret Downey) in the Sykes Student Union of West Chester University.
URL:https://www.mwgoldman.com/event/voter-registration-drive/
LOCATION:West Chester University\, West Chester\, Pennsylvania
END:VEVENT
BEGIN:VEVENT
DTSTART;TZID=UTC:20190124T193000
DTEND;TZID=UTC:20190124T203000
DTSTAMP:20260423T133034
CREATED:20190104T200539Z
LAST-MODIFIED:20190104T200736Z
UID:801-1548358200-1548361800@www.mwgoldman.com
SUMMARY:Mitzvah Players:  Comedy Improv
DESCRIPTION:Comedy improv!
URL:https://www.mwgoldman.com/event/mitzvah-players/
LOCATION:Temple Adath Israel\, 230 N Highland Ave\, Merion Station\, PA\, Merion Station\, PA\, 19066
END:VEVENT
END:VCALENDAR